BEGIN:VCALENDAR
VERSION:2.0
PRODID:-//Astrologische Psychologie und Astrologische Lebensberatung - ECPv6.15.20//NONSGML v1.0//EN
CALSCALE:GREGORIAN
METHOD:PUBLISH
X-WR-CALNAME:Astrologische Psychologie und Astrologische Lebensberatung
X-ORIGINAL-URL:https://www.astrologie-lebensberatung.de
X-WR-CALDESC:Veranstaltungen für Astrologische Psychologie und Astrologische Lebensberatung
REFRESH-INTERVAL;VALUE=DURATION:PT1H
X-Robots-Tag:noindex
X-PUBLISHED-TTL:PT1H
BEGIN:VTIMEZONE
TZID:Europe/Berlin
BEGIN:DAYLIGHT
TZOFFSETFROM:+0100
TZOFFSETTO:+0200
TZNAME:CEST
DTSTART:20220327T010000
END:DAYLIGHT
BEGIN:STANDARD
TZOFFSETFROM:+0200
TZOFFSETTO:+0100
TZNAME:CET
DTSTART:20221030T010000
END:STANDARD
BEGIN:DAYLIGHT
TZOFFSETFROM:+0100
TZOFFSETTO:+0200
TZNAME:CEST
DTSTART:20230326T010000
END:DAYLIGHT
BEGIN:STANDARD
TZOFFSETFROM:+0200
TZOFFSETTO:+0100
TZNAME:CET
DTSTART:20231029T010000
END:STANDARD
BEGIN:DAYLIGHT
TZOFFSETFROM:+0100
TZOFFSETTO:+0200
TZNAME:CEST
DTSTART:20240331T010000
END:DAYLIGHT
BEGIN:STANDARD
TZOFFSETFROM:+0200
TZOFFSETTO:+0100
TZNAME:CET
DTSTART:20241027T010000
END:STANDARD
END:VTIMEZONE
BEGIN:VEVENT
DTSTART;TZID=Europe/Berlin:20231109T120000
DTEND;TZID=Europe/Berlin:20231109T180000
DTSTAMP:20260422T103343
CREATED:20230817T214314Z
LAST-MODIFIED:20230920T151303Z
UID:14192-1699531200-1699552800@www.astrologie-lebensberatung.de
SUMMARY:Berater Training 4
DESCRIPTION:Beraterstudium Astrologische Psychologie – Praxis Düsseldorf \n\n\nBerater Training 4: Beratungs-Training\nDer vierte Tag des Berater Training dient praktischer Übung von Beratungs-Situationen \nAufruf: Wer Interesse hat\, eine Kurzberatung kostenfrei bei meiner Schülerin unter meiner Supervision zu buchen\, melde sich bitte zeitnah unter info@astrologie-lebensberatung.de \n\n\n\n\n\n\n\nUmfang Berater Training 3\n\nBeratungsübungen in Dreierteams\nBesprechung der Ergebnisse und Klärung offener Fragen\nPraxis-Tage mit Deutungsübungen evtl. auch mal mit geladenen Gästen\, die als Klienten zur Verfügung stehen.\nVerschiedene Themen nach  Wunsch. Daten bitte vorher einreichen!\n\nTeilnahme pro Person und Tag Euro 110\,- incl. Script\, Grafiken\, Getränke und Gebäck.
URL:https://www.astrologie-lebensberatung.de/veranstaltungen-termine/berater-training-4/
LOCATION:Astrologische Psychologie und Lebensberatung Düsseldorf\, Wallstr. 37\, Düsseldorf\, Nordrhein-Westfalen\, 40213\, Deutschland
CATEGORIES:Astrologie - Astrologische Psychologie - DIAP - Düsseldorf,Astrologie Ausbildung,Astrologie Kompakt,Astrologie Lernen,Astrologieausbildung,Astrologieschule,Astrologische Psychologie,Berater Studium Astrologische Psychologie,Berater Training,Berater Training BT 1-4,Huber Methode
ORGANIZER;CN="Gabriele Vierzig-Rostek":MAILTO:viero@t-online.de
END:VEVENT
END:VCALENDAR