BEGIN:VCALENDAR
VERSION:2.0
PRODID:-//Astrologische Psychologie und Astrologische Lebensberatung - ECPv6.15.20//NONSGML v1.0//EN
CALSCALE:GREGORIAN
METHOD:PUBLISH
X-WR-CALNAME:Astrologische Psychologie und Astrologische Lebensberatung
X-ORIGINAL-URL:https://www.astrologie-lebensberatung.de
X-WR-CALDESC:Veranstaltungen für Astrologische Psychologie und Astrologische Lebensberatung
REFRESH-INTERVAL;VALUE=DURATION:PT1H
X-Robots-Tag:noindex
X-PUBLISHED-TTL:PT1H
BEGIN:VTIMEZONE
TZID:Europe/Berlin
BEGIN:DAYLIGHT
TZOFFSETFROM:+0100
TZOFFSETTO:+0200
TZNAME:CEST
DTSTART:20220327T010000
END:DAYLIGHT
BEGIN:STANDARD
TZOFFSETFROM:+0200
TZOFFSETTO:+0100
TZNAME:CET
DTSTART:20221030T010000
END:STANDARD
BEGIN:DAYLIGHT
TZOFFSETFROM:+0100
TZOFFSETTO:+0200
TZNAME:CEST
DTSTART:20230326T010000
END:DAYLIGHT
BEGIN:STANDARD
TZOFFSETFROM:+0200
TZOFFSETTO:+0100
TZNAME:CET
DTSTART:20231029T010000
END:STANDARD
BEGIN:DAYLIGHT
TZOFFSETFROM:+0100
TZOFFSETTO:+0200
TZNAME:CEST
DTSTART:20240331T010000
END:DAYLIGHT
BEGIN:STANDARD
TZOFFSETFROM:+0200
TZOFFSETTO:+0100
TZNAME:CET
DTSTART:20241027T010000
END:STANDARD
END:VTIMEZONE
BEGIN:VEVENT
DTSTART;TZID=Europe/Berlin:20230906T100000
DTEND;TZID=Europe/Berlin:20230906T150000
DTSTAMP:20260422T103354
CREATED:20230817T215147Z
LAST-MODIFIED:20230817T215147Z
UID:14195-1693994400-1694012400@www.astrologie-lebensberatung.de
SUMMARY:Praxistag
DESCRIPTION:Grundstudium Astrologische Psychologie – Praxis Düsseldorf \nPraxistag\nWiederholung des gelernten Stoffes und wechselnden Themen zum Ausbildungsstand G 1 – G 6 – Selbsterfahrung\n\nAnwendung der Deutungsregeln: „Wer bin ICH und wie ist meine innere Motivation?“\nAnwendung der Deutungsregeln: „Wie sehe ICH mich und wie sehen mich die Anderen?“\n\n  \nTeilnhame pro Person und Tag Euro 110\,- incl. Skript\, Grafik\, Geträke und Gebäck.
URL:https://www.astrologie-lebensberatung.de/veranstaltungen-termine/praxistag/
LOCATION:Astrologische Psychologie und Lebensberatung Düsseldorf\, Wallstr. 37\, Düsseldorf\, Nordrhein-Westfalen\, 40213\, Deutschland
CATEGORIES:Astrologie - Astrologische Psychologie - DIAP - Düsseldorf,Astrologie Ausbildung,Astrologie Kompakt,Astrologie Lernen,Astrologieausbildung,Astrologieschule,Astrologische Psychologie,Grundlagenstudium Astrologische Psychologie DIAP,Grundstudium Astrologische Psychologie,Huber Methode
ORGANIZER;CN="Gabriele Vierzig-Rostek":MAILTO:viero@t-online.de
END:VEVENT
BEGIN:VEVENT
DTSTART;TZID=Europe/Berlin:20230916T120000
DTEND;TZID=Europe/Berlin:20230916T170000
DTSTAMP:20260422T103354
CREATED:20230815T234855Z
LAST-MODIFIED:20230815T235707Z
UID:14174-1694865600-1694883600@www.astrologie-lebensberatung.de
SUMMARY:Dynamische Entwicklungen
DESCRIPTION:Grundstudium Astrologische Psychologie – Praxis Düsseldorf – G 8\nDynamische Entwicklungen\nDynamische Entwicklungen im Horoskop sind prozessorientiert. Man betrachtet neben der Zeichen-Häuser Verschiebung auch das Häuser Horoskop\, eine besondere Neuerung\, die nur die Huber Methode bietet. Hier sehen wir die Prägungen die zu sichtbarem Verhalten geführt haben und noch führen\, was oft anders aussieht\, als die in der Radix angelegten Anlagen. Die Dynamische Auszählung stellt ein wirksames Werkzeug zur Verfügung\, welches deutlich genauer als alle mir sonst bekannten Elemente-Auszählungen den Energielevel der Persönlichkeit beschreibt. Und der Dynamische Quadrant zeigt einen Verhaltensablauf\, der immer in gleicher Weie abläuft\, egal bei welcher Aufgabe. \n  \n \nInhalt \nDas Häuser-Horoskop. Berechnung und Änderung im Aspekt-Bild.\nVergleich Grund- und Häuser-Horoskop\, Anlage und Konditionierung. Entwicklungsprozesse in der Zeichen – Haus Verschiebung.\nErste Hinweise für psychosomatische Symptome. \n  \nDynamische Auszählung – Energie-Auswertung der Planeten in den Zeichen und Häusern.\nDer Dynamische Quadrant – ein Reflex gesteuerter Verhaltensablauf. \nTeilnahme pro Person und Tag Euro 110\,- incl. Kursunterlagen\, Getränke und Gebäck. \nDIAP Modul I – GRUNDSTUDIUM – Level 1 \n \n 
URL:https://www.astrologie-lebensberatung.de/veranstaltungen-termine/dynamische-entwicklungen/
LOCATION:Astrologische Lebensberatung Praxis Düsseldorf\, Wallstr. 37\, Düsseldorf\, NRW\, 40213\, Deutschland
CATEGORIES:Astrologie Ausbildung,Astrologie Kompakt,Astrologie Lernen,Astrologieausbildung,Astrologische Psychologie,AstroPsychologie,AstroPsychologie Grundausbildung,Grundlagenstudium Astrologische Psychologie DIAP,Grundstudium Astrologische Psychologie,Huber Methode
END:VEVENT
BEGIN:VEVENT
DTSTART;TZID=Europe/Berlin:20230930T120000
DTEND;TZID=Europe/Berlin:20230930T170000
DTSTAMP:20260422T103354
CREATED:20230828T140914Z
LAST-MODIFIED:20230828T140914Z
UID:14259-1696075200-1696093200@www.astrologie-lebensberatung.de
SUMMARY:Astrologische Häuser
DESCRIPTION:Grundstudium Astrologische Psychologie – Praxis Düsseldorf \nAstrologische Häuser und Deutungsregeln – G 4\nDie Astrologischen Häuser spielen eine große Rolle in der Alltagsbewältigung. 12 verschiedene Lebensbühnen verlangen unterschiedliche Herangehensweisen\, die so gut wie es geht mit dem Potential aus Planeten in Zeichen mit ihren Aspekten im Aspekt-Bild umgesetzt werden sollten. Auch in diesem Thema hat die Huber Methode sehr tiefgehende Neuerungen gefunden. Sie erlernen die entsprechenden Deutungsregeln in diesem Seminar. \n  \n\n\n\n\n\n\n\nUmfang des Kurses\n\nDas Häusersystem nach GOH Koch.\nDas Häusersystem als Raumgefüge.\nZuordnung zu Kreuzen und Temperamenten.\n6 Häuser-Achsen.\nDas dynamische Häusersystem: Spitzen-\, Invert-\, Talpunkte\, lntensitätskurve. Goldener Schnitt.\nHäuser-Entwicklungsprozesse nach den Temperamenten.\nHinweis auf das Häuser-Horoskop.\nDer Aszendent.\nDeutungsregeln: Aspekt-Figuren\, aufsteigender MK und AC\, dynam. Auszählung\, stärkster Ich-Planet und Alterspunkt-Standort.\n\n  \n\nTeilnahme pro Person und Tag Euro 110\,- incl. Kursunterlagen\, Getränke und Gebäck. \nDIAP Modul I – GRUNDSTUDIUM – Level 1
URL:https://www.astrologie-lebensberatung.de/veranstaltungen-termine/astrologische-haeuser/
LOCATION:Astrologische Psychologie und Lebensberatung Düsseldorf\, Wallstr. 37\, Düsseldorf\, Nordrhein-Westfalen\, 40213\, Deutschland
CATEGORIES:Astrologie - Astrologische Psychologie - DIAP - Düsseldorf,Astrologie Ausbildung,Astrologie Kompakt,Astrologie Lernen,Astrologieausbildung,Astrologieschule,Astrologische Psychologie,AstroPsychologie,AstroPsychologie Grundausbildung,Grundlagenstudium Astrologische Psychologie DIAP,Grundstudium Astrologische Psychologie,Huber Methode
ORGANIZER;CN="Gabriele Vierzig-Rostek%2C Astrologin Dipl. API (CH)":MAILTO:viero@t-online.de
END:VEVENT
END:VCALENDAR